BEGIN:VCALENDAR
VERSION:2.0
PRODID:icalendar-ruby
CALSCALE:GREGORIAN
METHOD:PUBLISH
BEGIN:VEVENT
DTSTAMP:20260425T173721Z
UID:20-386957@groesbeckfmc.org
DTSTART:20260520T180000Z
DTEND:20260520T200000Z
CLASS:PUBLIC
CREATED:20260417T125108
DESCRIPTION:
LAST-MODIFIED:20260417T125108
LOCATION:FMC-Upstairs
SUMMARY:The Closet
URL;VALUE=URI:https://www.groesbeckfmc.org/events/the-closet--20/2026-05-20
END:VEVENT
END:VCALENDAR
