BEGIN:VCALENDAR
VERSION:2.0
PRODID:icalendar-ruby
CALSCALE:GREGORIAN
METHOD:PUBLISH
BEGIN:VEVENT
DTSTAMP:20260425T174322Z
UID:18-386955@groesbeckfmc.org
DTSTART:20260506T180000Z
DTEND:20260506T200000Z
CLASS:PUBLIC
CREATED:20260417T124904
DESCRIPTION:
LAST-MODIFIED:20260417T124904
LOCATION:FMC-Upstairs
SUMMARY:The Closet
URL;VALUE=URI:https://www.groesbeckfmc.org/events/the-closet--18/2026-05-06
END:VEVENT
END:VCALENDAR
