BEGIN:VCALENDAR
VERSION:2.0
PRODID:icalendar-ruby
CALSCALE:GREGORIAN
METHOD:PUBLISH
BEGIN:VEVENT
DTSTAMP:20260426T025300Z
UID:21-397436@groesbeckfmc.org
DTSTART:20260531T160000Z
DTEND:20260531T170000Z
CLASS:PUBLIC
CREATED:20260425T202630
DESCRIPTION:
LAST-MODIFIED:20260425T202630
LOCATION:
SUMMARY:Sunday Service
URL;VALUE=URI:https://www.groesbeckfmc.org/events/sunday-service/2026-05-31
END:VEVENT
END:VCALENDAR
