BEGIN:VCALENDAR
VERSION:2.0
PRODID:icalendar-ruby
CALSCALE:GREGORIAN
METHOD:PUBLISH
BEGIN:VEVENT
DTSTAMP:20260425T212622Z
UID:21-397317@groesbeckfmc.org
DTSTART:20260510T160000Z
DTEND:20260510T170000Z
CLASS:PUBLIC
CREATED:20260425T150202
DESCRIPTION:
LAST-MODIFIED:20260425T150202
LOCATION:
SUMMARY:Sunday Service
URL;VALUE=URI:https://www.groesbeckfmc.org/events/sunday-service/2026-05-10
END:VEVENT
END:VCALENDAR
