BEGIN:VCALENDAR
VERSION:2.0
PRODID:icalendar-ruby
CALSCALE:GREGORIAN
METHOD:PUBLISH
BEGIN:VEVENT
DTSTAMP:20260425T180503Z
UID:21-397257@groesbeckfmc.org
DTSTART:20260426T160000Z
DTEND:20260426T170000Z
CLASS:PUBLIC
CREATED:20260425T122038
DESCRIPTION:
LAST-MODIFIED:20260425T122038
LOCATION:
SUMMARY:Sunday Service
URL;VALUE=URI:https://www.groesbeckfmc.org/events/sunday-service/2026-04-26
END:VEVENT
END:VCALENDAR
