BEGIN:VCALENDAR
VERSION:2.0
PRODID:icalendar-ruby
CALSCALE:GREGORIAN
METHOD:PUBLISH
BEGIN:VEVENT
DTSTAMP:20260426T020528Z
UID:13-397407@groesbeckfmc.org
DTSTART:20260603T140000Z
DTEND:20260603T170000Z
CLASS:PUBLIC
CREATED:20260425T202630
DESCRIPTION:Now sewing experience necessary! If you are interested in joini
 ng please contact Susan Sherrouse
LAST-MODIFIED:20260425T202630
LOCATION:MAC Building
SUMMARY:Sew Thankful
URL;VALUE=URI:https://www.groesbeckfmc.org/events/sew-thankful/2026-06-03
END:VEVENT
END:VCALENDAR
