BEGIN:VCALENDAR
VERSION:2.0
PRODID:icalendar-ruby
CALSCALE:GREGORIAN
METHOD:PUBLISH
BEGIN:VEVENT
DTSTAMP:20260425T223926Z
UID:13-397289@groesbeckfmc.org
DTSTART:20260520T140000Z
DTEND:20260520T170000Z
CLASS:PUBLIC
CREATED:20260425T150202
DESCRIPTION:Now sewing experience necessary! If you are interested in joini
 ng please contact Susan Sherrouse
LAST-MODIFIED:20260425T150202
LOCATION:MAC Building
SUMMARY:Sew Thankful
URL;VALUE=URI:https://www.groesbeckfmc.org/events/sew-thankful/2026-05-20
END:VEVENT
END:VCALENDAR
