BEGIN:VCALENDAR
VERSION:2.0
PRODID:icalendar-ruby
CALSCALE:GREGORIAN
METHOD:PUBLISH
BEGIN:VEVENT
DTSTAMP:20260425T173524Z
UID:13-397228@groesbeckfmc.org
DTSTART:20260429T140000Z
DTEND:20260429T170000Z
CLASS:PUBLIC
CREATED:20260425T122038
DESCRIPTION:Now sewing experience necessary! If you are interested in joini
 ng please contact Susan Sherrouse
LAST-MODIFIED:20260425T122038
LOCATION:MAC Building
SUMMARY:Sew Thankful
URL;VALUE=URI:https://www.groesbeckfmc.org/events/sew-thankful/2026-04-29
END:VEVENT
END:VCALENDAR
