BEGIN:VCALENDAR
VERSION:2.0
PRODID:icalendar-ruby
CALSCALE:GREGORIAN
METHOD:PUBLISH
BEGIN:VEVENT
DTSTAMP:20260425T211456Z
UID:22-396181@groesbeckfmc.org
DTSTART:20260504T223000Z
DTEND:20260505T000000Z
CLASS:PUBLIC
CREATED:20260422T104337
DESCRIPTION:
LAST-MODIFIED:20260422T104337
LOCATION:
SUMMARY:GriefShare
URL;VALUE=URI:https://www.groesbeckfmc.org/events/griefshare/2026-05-04
END:VEVENT
END:VCALENDAR
