BEGIN:VCALENDAR
VERSION:2.0
PRODID:icalendar-ruby
CALSCALE:GREGORIAN
METHOD:PUBLISH
BEGIN:VEVENT
DTSTAMP:20260425T193840Z
UID:22-396180@groesbeckfmc.org
DTSTART:20260430T223000Z
DTEND:20260501T000000Z
CLASS:PUBLIC
CREATED:20260422T104337
DESCRIPTION:
LAST-MODIFIED:20260422T104337
LOCATION:
SUMMARY:GriefShare
URL;VALUE=URI:https://www.groesbeckfmc.org/events/griefshare/2026-04-30
END:VEVENT
END:VCALENDAR
