BEGIN:VCALENDAR
VERSION:2.0
PRODID:icalendar-ruby
CALSCALE:GREGORIAN
METHOD:PUBLISH
BEGIN:VEVENT
DTSTAMP:20260425T173721Z
UID:19-386956@groesbeckfmc.org
DTSTART:20260507T170000Z
DTEND:20260507T180000Z
CLASS:PUBLIC
CREATED:20260417T125017
DESCRIPTION:
LAST-MODIFIED:20260417T125017
LOCATION:Fellowship Hall
SUMMARY:Friendship Luncheon
URL;VALUE=URI:https://www.groesbeckfmc.org/events/friendship-luncheon--19/2
 026-05-07
END:VEVENT
END:VCALENDAR
