BEGIN:VCALENDAR
VERSION:2.0
PRODID:icalendar-ruby
CALSCALE:GREGORIAN
METHOD:PUBLISH
BEGIN:VEVENT
DTSTAMP:20260425T180347Z
UID:8-384968@groesbeckfmc.org
DTSTART:20260426T150000Z
DTEND:20260426T160000Z
CLASS:PUBLIC
CREATED:20260416T143143
DESCRIPTION:
LAST-MODIFIED:20260416T143143
LOCATION:Fellowship Hall
SUMMARY:Fellowship Breakfast
URL;VALUE=URI:https://www.groesbeckfmc.org/events/fellowship-breakfast/2026
 -04-26
END:VEVENT
END:VCALENDAR
