BEGIN:VCALENDAR
VERSION:2.0
PRODID:icalendar-ruby
CALSCALE:GREGORIAN
METHOD:PUBLISH
BEGIN:VEVENT
DTSTAMP:20260425T173438Z
UID:10-384970@groesbeckfmc.org
DTSTART:20260530T150000Z
DTEND:20260530T170000Z
CLASS:PUBLIC
CREATED:20260416T143748
DESCRIPTION:This training is for all who have beeen contacted
LAST-MODIFIED:20260416T143748
LOCATION:Fellowship Hall
SUMMARY:CPR Training
URL;VALUE=URI:https://www.groesbeckfmc.org/events/cpr-training/2026-05-30
END:VEVENT
END:VCALENDAR
