BEGIN:VCALENDAR
VERSION:2.0
PRODID:icalendar-ruby
CALSCALE:GREGORIAN
METHOD:PUBLISH
BEGIN:VEVENT
DTSTAMP:20260425T173615Z
UID:9-384969@groesbeckfmc.org
DTSTART:20260502T150000Z
DTEND:20260502T170000Z
CLASS:PUBLIC
CREATED:20260416T143539
DESCRIPTION:For anyone who signed up for the Audio Visual Ministry\, this t
 aining is for you. Garrett and Olivia will be training everyone on the pro
 cedure for everything that needs to be done in order for Sunday service to
  be successful.
LAST-MODIFIED:20260416T143539
LOCATION:Church Sanctuary
SUMMARY:A/V Training
URL;VALUE=URI:https://www.groesbeckfmc.org/events/a-v-training/2026-05-02
END:VEVENT
END:VCALENDAR
